BEGIN:VCALENDAR
VERSION:2.0
PRODID:-//YourSite//NONSGML v1.0//EN
BEGIN:VEVENT
UID:69eb2a8aaca14
DTSTAMP:20260424T083210Z
DTSTART:20260424T083210
DTEND:20260424T083210
SUMMARY:2023 Young Partners Boston Holiday Gathering
DESCRIPTION:
LOCATION:
END:VEVENT
END:VCALENDAR
