BEGIN:VCALENDAR
VERSION:2.0
PRODID:-//YourSite//NONSGML v1.0//EN
BEGIN:VEVENT
UID:69e734415124c
DTSTAMP:20260421T082433Z
DTSTART:20260421T082433
DTEND:20260421T082433
SUMMARY:2024 St. Patrick’s Day Celebration &#8211; Chicago
DESCRIPTION:
LOCATION:
END:VEVENT
END:VCALENDAR
