BEGIN:VCALENDAR
VERSION:2.0
PRODID:-//YourSite//NONSGML v1.0//EN
BEGIN:VEVENT
UID:69e8e9c201487
DTSTAMP:20260422T153114Z
DTSTART:20260422T153114
DTEND:20260422T153114
SUMMARY:Irish Invitational Golf Tournament
DESCRIPTION:
LOCATION:
END:VEVENT
END:VCALENDAR
